BEGIN:VCALENDAR
VERSION:2.0
PRODID:-//CV De Meerpoel - ECPv6.15.20//NONSGML v1.0//EN
CALSCALE:GREGORIAN
METHOD:PUBLISH
X-ORIGINAL-URL:https://www.cvdemeerpoel.nl
X-WR-CALDESC:Evenementen voor CV De Meerpoel
REFRESH-INTERVAL;VALUE=DURATION:PT1H
X-Robots-Tag:noindex
X-PUBLISHED-TTL:PT1H
BEGIN:VTIMEZONE
TZID:Europe/Paris
BEGIN:DAYLIGHT
TZOFFSETFROM:+0100
TZOFFSETTO:+0200
TZNAME:CEST
DTSTART:20240331T010000
END:DAYLIGHT
BEGIN:STANDARD
TZOFFSETFROM:+0200
TZOFFSETTO:+0100
TZNAME:CET
DTSTART:20241027T010000
END:STANDARD
BEGIN:DAYLIGHT
TZOFFSETFROM:+0100
TZOFFSETTO:+0200
TZNAME:CEST
DTSTART:20250330T010000
END:DAYLIGHT
BEGIN:STANDARD
TZOFFSETFROM:+0200
TZOFFSETTO:+0100
TZNAME:CET
DTSTART:20251026T010000
END:STANDARD
BEGIN:DAYLIGHT
TZOFFSETFROM:+0100
TZOFFSETTO:+0200
TZNAME:CEST
DTSTART:20260329T010000
END:DAYLIGHT
BEGIN:STANDARD
TZOFFSETFROM:+0200
TZOFFSETTO:+0100
TZNAME:CET
DTSTART:20261025T010000
END:STANDARD
END:VTIMEZONE
BEGIN:VEVENT
DTSTART;TZID=Europe/Paris:20251114T200000
DTEND;TZID=Europe/Paris:20251115T000000
DTSTAMP:20260420T113726
CREATED:20210921T190429Z
LAST-MODIFIED:20251030T185254Z
UID:18889-1763150400-1763164800@www.cvdemeerpoel.nl
SUMMARY:Prinsenbal CV De Plattevonder
DESCRIPTION:We bezoeken het Prinsenbal van onze vrienden van CV De Plattevonder. \nVerzamelen: 20:00\nTaxi heen: 20:30\nTaxi terug: 23:15
URL:https://www.cvdemeerpoel.nl/activiteiten/prinsenbal-cv-de-plattevonder/
LOCATION:De Einder
END:VEVENT
END:VCALENDAR