BEGIN:VCALENDAR
VERSION:2.0
PRODID:-//CV De Meerpoel - ECPv6.15.20//NONSGML v1.0//EN
CALSCALE:GREGORIAN
METHOD:PUBLISH
X-ORIGINAL-URL:https://www.cvdemeerpoel.nl
X-WR-CALDESC:Evenementen voor CV De Meerpoel
REFRESH-INTERVAL;VALUE=DURATION:PT1H
X-Robots-Tag:noindex
X-PUBLISHED-TTL:PT1H
BEGIN:VTIMEZONE
TZID:Europe/Paris
BEGIN:DAYLIGHT
TZOFFSETFROM:+0100
TZOFFSETTO:+0200
TZNAME:CEST
DTSTART:20240331T010000
END:DAYLIGHT
BEGIN:STANDARD
TZOFFSETFROM:+0200
TZOFFSETTO:+0100
TZNAME:CET
DTSTART:20241027T010000
END:STANDARD
BEGIN:DAYLIGHT
TZOFFSETFROM:+0100
TZOFFSETTO:+0200
TZNAME:CEST
DTSTART:20250330T010000
END:DAYLIGHT
BEGIN:STANDARD
TZOFFSETFROM:+0200
TZOFFSETTO:+0100
TZNAME:CET
DTSTART:20251026T010000
END:STANDARD
BEGIN:DAYLIGHT
TZOFFSETFROM:+0100
TZOFFSETTO:+0200
TZNAME:CEST
DTSTART:20260329T010000
END:DAYLIGHT
BEGIN:STANDARD
TZOFFSETFROM:+0200
TZOFFSETTO:+0100
TZNAME:CET
DTSTART:20261025T010000
END:STANDARD
END:VTIMEZONE
BEGIN:VEVENT
DTSTART;TZID=Europe/Paris:20251129T200000
DTEND;TZID=Europe/Paris:20251130T010000
DTSTAMP:20260422T104309
CREATED:20171101T061742Z
LAST-MODIFIED:20251030T185004Z
UID:15425-1764446400-1764464400@www.cvdemeerpoel.nl
SUMMARY:Prinsentreffen
DESCRIPTION:Het Prinsentreffen wordt dit jaar georganiseerd door CV De Plattevonder en vindt plaats in De Einder. \nTaxi heen: 20:15\nTaxi terug: 01:15
URL:https://www.cvdemeerpoel.nl/activiteiten/prinsentreffen-2/
LOCATION:De Einder
CATEGORIES:Activiteiten
ATTACH;FMTTYPE=image/jpeg:https://www.cvdemeerpoel.nl/wp-content/uploads/2024/01/DSC_3102.jpg
END:VEVENT
END:VCALENDAR