BEGIN:VCALENDAR
VERSION:2.0
PRODID:-//CV De Meerpoel - ECPv6.15.20//NONSGML v1.0//EN
CALSCALE:GREGORIAN
METHOD:PUBLISH
X-WR-CALNAME:CV De Meerpoel
X-ORIGINAL-URL:https://www.cvdemeerpoel.nl
X-WR-CALDESC:Evenementen voor CV De Meerpoel
REFRESH-INTERVAL;VALUE=DURATION:PT1H
X-Robots-Tag:noindex
X-PUBLISHED-TTL:PT1H
BEGIN:VTIMEZONE
TZID:Europe/Paris
BEGIN:DAYLIGHT
TZOFFSETFROM:+0100
TZOFFSETTO:+0200
TZNAME:CEST
DTSTART:20250330T010000
END:DAYLIGHT
BEGIN:STANDARD
TZOFFSETFROM:+0200
TZOFFSETTO:+0100
TZNAME:CET
DTSTART:20251026T010000
END:STANDARD
BEGIN:DAYLIGHT
TZOFFSETFROM:+0100
TZOFFSETTO:+0200
TZNAME:CEST
DTSTART:20260329T010000
END:DAYLIGHT
BEGIN:STANDARD
TZOFFSETFROM:+0200
TZOFFSETTO:+0100
TZNAME:CET
DTSTART:20261025T010000
END:STANDARD
BEGIN:DAYLIGHT
TZOFFSETFROM:+0100
TZOFFSETTO:+0200
TZNAME:CEST
DTSTART:20270328T010000
END:DAYLIGHT
BEGIN:STANDARD
TZOFFSETFROM:+0200
TZOFFSETTO:+0100
TZNAME:CET
DTSTART:20271031T010000
END:STANDARD
END:VTIMEZONE
BEGIN:VEVENT
DTSTART;TZID=Europe/Paris:20260103T150000
DTEND;TZID=Europe/Paris:20260103T235900
DTSTAMP:20260420T074022
CREATED:20151029T161505Z
LAST-MODIFIED:20250828T173843Z
UID:12160-1767452400-1767484740@www.cvdemeerpoel.nl
SUMMARY:Prinsenreceptie
DESCRIPTION:Prinsenreceptie ter ere van ons 60e Prinsenpaar. \n 
URL:https://www.cvdemeerpoel.nl/activiteiten/prinsenreceptie/
LOCATION:Zalencentrum Centraal\, Wilhelminaplein 3\, Someren\, 5711 EK\, Nederland
CATEGORIES:Activiteiten
END:VEVENT
END:VCALENDAR