BEGIN:VCALENDAR
VERSION:2.0
PRODID:-//CV De Meerpoel - ECPv6.15.20//NONSGML v1.0//EN
CALSCALE:GREGORIAN
METHOD:PUBLISH
X-WR-CALNAME:CV De Meerpoel
X-ORIGINAL-URL:https://www.cvdemeerpoel.nl
X-WR-CALDESC:Evenementen voor CV De Meerpoel
REFRESH-INTERVAL;VALUE=DURATION:PT1H
X-Robots-Tag:noindex
X-PUBLISHED-TTL:PT1H
BEGIN:VTIMEZONE
TZID:Europe/Paris
BEGIN:DAYLIGHT
TZOFFSETFROM:+0100
TZOFFSETTO:+0200
TZNAME:CEST
DTSTART:20250330T010000
END:DAYLIGHT
BEGIN:STANDARD
TZOFFSETFROM:+0200
TZOFFSETTO:+0100
TZNAME:CET
DTSTART:20251026T010000
END:STANDARD
BEGIN:DAYLIGHT
TZOFFSETFROM:+0100
TZOFFSETTO:+0200
TZNAME:CEST
DTSTART:20260329T010000
END:DAYLIGHT
BEGIN:STANDARD
TZOFFSETFROM:+0200
TZOFFSETTO:+0100
TZNAME:CET
DTSTART:20261025T010000
END:STANDARD
BEGIN:DAYLIGHT
TZOFFSETFROM:+0100
TZOFFSETTO:+0200
TZNAME:CEST
DTSTART:20270328T010000
END:DAYLIGHT
BEGIN:STANDARD
TZOFFSETFROM:+0200
TZOFFSETTO:+0100
TZNAME:CET
DTSTART:20271031T010000
END:STANDARD
END:VTIMEZONE
BEGIN:VEVENT
DTSTART;TZID=Europe/Paris:20260104T131500
DTEND;TZID=Europe/Paris:20260104T173000
DTSTAMP:20260420T073212
CREATED:20211126T100014Z
LAST-MODIFIED:20251030T184517Z
UID:12161-1767532500-1767547800@www.cvdemeerpoel.nl
SUMMARY:Jeugdprins(ess)enreceptie Meerpoeleke
DESCRIPTION:Receptie ter ere van onze Jeugdprins(es)\, bijgestaan door de jeugdadjudant(e) en een dolenthousiaste jeugdraad. \n  \n 
URL:https://www.cvdemeerpoel.nl/activiteiten/jeugdprinsenreceptie-meerpoeleke/
LOCATION:Zalencentrum Centraal\, Wilhelminaplein 3\, Someren\, 5711 EK\, Nederland
CATEGORIES:Activiteiten
END:VEVENT
END:VCALENDAR