BEGIN:VCALENDAR
VERSION:2.0
PRODID:-//CV De Meerpoel - ECPv6.15.20//NONSGML v1.0//EN
CALSCALE:GREGORIAN
METHOD:PUBLISH
X-ORIGINAL-URL:https://www.cvdemeerpoel.nl
X-WR-CALDESC:Evenementen voor CV De Meerpoel
REFRESH-INTERVAL;VALUE=DURATION:PT1H
X-Robots-Tag:noindex
X-PUBLISHED-TTL:PT1H
BEGIN:VTIMEZONE
TZID:Europe/Paris
BEGIN:DAYLIGHT
TZOFFSETFROM:+0100
TZOFFSETTO:+0200
TZNAME:CEST
DTSTART:20250330T010000
END:DAYLIGHT
BEGIN:STANDARD
TZOFFSETFROM:+0200
TZOFFSETTO:+0100
TZNAME:CET
DTSTART:20251026T010000
END:STANDARD
BEGIN:DAYLIGHT
TZOFFSETFROM:+0100
TZOFFSETTO:+0200
TZNAME:CEST
DTSTART:20260329T010000
END:DAYLIGHT
BEGIN:STANDARD
TZOFFSETFROM:+0200
TZOFFSETTO:+0100
TZNAME:CET
DTSTART:20261025T010000
END:STANDARD
BEGIN:DAYLIGHT
TZOFFSETFROM:+0100
TZOFFSETTO:+0200
TZNAME:CEST
DTSTART:20270328T010000
END:DAYLIGHT
BEGIN:STANDARD
TZOFFSETFROM:+0200
TZOFFSETTO:+0100
TZNAME:CET
DTSTART:20271031T010000
END:STANDARD
END:VTIMEZONE
BEGIN:VEVENT
DTSTART;TZID=Europe/Paris:20260110T173000
DTEND;TZID=Europe/Paris:20260110T233000
DTSTAMP:20260420T092058
CREATED:20151029T161738Z
LAST-MODIFIED:20250828T174153Z
UID:12162-1768066200-1768087800@www.cvdemeerpoel.nl
SUMMARY:Prinsenreceptie CV De Kaauw Voetjes
DESCRIPTION:Prinsenreceptie van onze vrienden van CV de Kaauw Voetjes in Lierop. \nWe gaan hier waarschijnlijk al op tijd en met een kleine delegatie heen\, in verband met onze eigen Zaonikaovend. \n 
URL:https://www.cvdemeerpoel.nl/activiteiten/prinsenreceptie-kaauw-voetjes/
CATEGORIES:Activiteiten
END:VEVENT
BEGIN:VEVENT
DTSTART;TZID=Europe/Paris:20260110T193000
DTEND;TZID=Europe/Paris:20260110T233000
DTSTAMP:20260420T092058
CREATED:20151013T094109Z
LAST-MODIFIED:20250828T174242Z
UID:12040-1768073400-1768087800@www.cvdemeerpoel.nl
SUMMARY:1e Zàonikaovend
DESCRIPTION:
URL:https://www.cvdemeerpoel.nl/activiteiten/1e-zaonikaovenden/
LOCATION:Zalencentrum Centraal\, Wilhelminaplein 3\, Someren\, 5711 EK\, Nederland
CATEGORIES:Activiteiten
END:VEVENT
BEGIN:VEVENT
DTSTART;TZID=Europe/Paris:20260111T143000
DTEND;TZID=Europe/Paris:20260111T180000
DTSTAMP:20260420T092058
CREATED:20240913T172032Z
LAST-MODIFIED:20251030T184045Z
UID:21227-1768141800-1768154400@www.cvdemeerpoel.nl
SUMMARY:Jeugdreceptie CV De Kaauwvoetjes
DESCRIPTION:We bezoeken de receptie van de Jeugdprins(es) van CV De Kaauwvoetjes. \nTaxi heen: 14:45\nTaxi terug: 17:30
URL:https://www.cvdemeerpoel.nl/activiteiten/jeugdreceptie-cv-de-kaauwvoetjes/
END:VEVENT
BEGIN:VEVENT
DTSTART;TZID=Europe/Paris:20260116T193000
DTEND;TZID=Europe/Paris:20260116T233000
DTSTAMP:20260420T092058
CREATED:20151028T212238Z
LAST-MODIFIED:20250828T174323Z
UID:12120-1768591800-1768606200@www.cvdemeerpoel.nl
SUMMARY:2e Zàonikaovend
DESCRIPTION:
URL:https://www.cvdemeerpoel.nl/activiteiten/2e-zaonikaovend/
LOCATION:Zalencentrum Centraal\, Wilhelminaplein 3\, Someren\, 5711 EK\, Nederland
CATEGORIES:Activiteiten
END:VEVENT
BEGIN:VEVENT
DTSTART;TZID=Europe/Paris:20260117T193000
DTEND;TZID=Europe/Paris:20260117T233000
DTSTAMP:20260420T092058
CREATED:20151028T212353Z
LAST-MODIFIED:20250828T174433Z
UID:12121-1768678200-1768692600@www.cvdemeerpoel.nl
SUMMARY:3e Zàonikaovend
DESCRIPTION:
URL:https://www.cvdemeerpoel.nl/activiteiten/3e-zaonikaovend/
LOCATION:Zalencentrum Centraal\, Wilhelminaplein 3\, Someren\, 5711 EK\, Nederland
CATEGORIES:Activiteiten
END:VEVENT
BEGIN:VEVENT
DTSTART;TZID=Europe/Paris:20260124T184500
DTEND;TZID=Europe/Paris:20260124T211500
DTSTAMP:20260420T092058
CREATED:20161024T144952Z
LAST-MODIFIED:20251030T183449Z
UID:14103-1769280300-1769289300@www.cvdemeerpoel.nl
SUMMARY:Receptie De Peelvrujters
DESCRIPTION:We bezoeken de Prinsenreceptie van onze vrienden van De Peelvrujters uit Heusden. \nTaxi heen: 19:00\nTaxi terug: 21:15 (i.v.m. bezoek Prinsenreceptie De Pompers)
URL:https://www.cvdemeerpoel.nl/activiteiten/jubileumreceptie-de-peelvrujters/
LOCATION:Hart van Heuze\, Pastoor Arnoldstraat 3\, Asten-Heusden\, 5725 AN
CATEGORIES:Activiteiten
END:VEVENT
BEGIN:VEVENT
DTSTART;TZID=Europe/Paris:20260124T213000
DTEND;TZID=Europe/Paris:20260124T235900
DTSTAMP:20260420T092058
CREATED:20160116T162853Z
LAST-MODIFIED:20251030T183706Z
UID:13213-1769290200-1769299140@www.cvdemeerpoel.nl
SUMMARY:Prinsenreceptie CV De Pompers
DESCRIPTION:We bezoeken de Prinsenreceptie van onze vrienden van CV De Pompers. \nVoorafgaand bezoeken we de Prinsenreceptie van CV De Peelvrujters
URL:https://www.cvdemeerpoel.nl/activiteiten/prinsenreceptie-cv-de-pompers/
LOCATION:In D’n Herberg\, Postel 27\, Someren\, 5711 ET\, Nederland
CATEGORIES:Activiteiten
END:VEVENT
BEGIN:VEVENT
DTSTART;VALUE=DATE:20260125
DTEND;VALUE=DATE:20260126
DTSTAMP:20260420T092058
CREATED:20251030T182916Z
LAST-MODIFIED:20260107T204911Z
UID:22152-1769299200-1769385599@www.cvdemeerpoel.nl
SUMMARY:Mystery X (GEANNULEERD!)
DESCRIPTION:Deze activiteit is helaas geannuleerd.
URL:https://www.cvdemeerpoel.nl/activiteiten/mystery-x/
END:VEVENT
BEGIN:VEVENT
DTSTART;TZID=Europe/Paris:20260131T194500
DTEND;TZID=Europe/Paris:20260131T235900
DTSTAMP:20260420T092058
CREATED:20151029T162444Z
LAST-MODIFIED:20251030T183137Z
UID:12167-1769888700-1769903940@www.cvdemeerpoel.nl
SUMMARY:Receptie CV De Keijepaol
DESCRIPTION:We bezoeken de receptie van onze vrienden van CV de Keijepaol in Someren-Heide. \nTaxi heen: 20:00\nTaxi terug: 00:00
URL:https://www.cvdemeerpoel.nl/activiteiten/receptie-cv-de-keijepaol/
LOCATION:Zaal De Heidehof\, Kerkendijk 126a\, Someren-Heide\, 5712 EX\, Nederland
CATEGORIES:Activiteiten
END:VEVENT
BEGIN:VEVENT
DTSTART;VALUE=DATE:20260207
DTEND;VALUE=DATE:20260208
DTSTAMP:20260420T092058
CREATED:20180906T110705Z
LAST-MODIFIED:20250828T175445Z
UID:16219-1770422400-1770508799@www.cvdemeerpoel.nl
SUMMARY:Jurering Prinselijke buurt
DESCRIPTION:Tijd n.n.b.
URL:https://www.cvdemeerpoel.nl/activiteiten/jurering-prinselijke-buurt/
CATEGORIES:Activiteiten
ATTACH;FMTTYPE=image/jpeg:https://www.cvdemeerpoel.nl/wp-content/uploads/2018/02/DSC_8579a.jpg
END:VEVENT
BEGIN:VEVENT
DTSTART;TZID=Europe/Paris:20260207T093000
DTEND;TZID=Europe/Paris:20260207T140000
DTSTAMP:20260420T092058
CREATED:20151029T162217Z
LAST-MODIFIED:20250828T175302Z
UID:12165-1770456600-1770472800@www.cvdemeerpoel.nl
SUMMARY:Bloemenactie
DESCRIPTION:We bezorgen een mooie bos bloemen bij de zieken en minder gelukkigen in Someren om hen zo een hart onder de riem te steken.
URL:https://www.cvdemeerpoel.nl/activiteiten/bloemenactie/
LOCATION:Someren\, Someren
CATEGORIES:Activiteiten
END:VEVENT
BEGIN:VEVENT
DTSTART;TZID=Europe/Paris:20260207T180000
DTEND;TZID=Europe/Paris:20260207T235900
DTSTAMP:20260420T092058
CREATED:20151029T162336Z
LAST-MODIFIED:20251216T182358Z
UID:12166-1770487200-1770508740@www.cvdemeerpoel.nl
SUMMARY:Receptie CV De Plattevonder
DESCRIPTION:Receptie van onze vrienden van CV de Plattevonder in Someren-Eind. \nWe gaan hier al vroeg heen\, dit i.v.m. Varsel. \nVerzamelen: 17:50 (Bij Varsel)\nTaxi heen: 18:00\nTaxi terug: 20:15 \n 
URL:https://www.cvdemeerpoel.nl/activiteiten/receptie-cv-de-plattevonder/
LOCATION:De Einder
CATEGORIES:Activiteiten
END:VEVENT
BEGIN:VEVENT
DTSTART;TZID=Europe/Paris:20260207T203000
DTEND;TZID=Europe/Paris:20260207T233000
DTSTAMP:20260420T092058
CREATED:20151029T161914Z
LAST-MODIFIED:20250828T175629Z
UID:12163-1770496200-1770507000@www.cvdemeerpoel.nl
SUMMARY:Varsel
DESCRIPTION:We verzamelen al op tijd\, om van tevoren naar de receptie bij onze vrienden van de Platte Vonder te gaan.
URL:https://www.cvdemeerpoel.nl/activiteiten/bezoek-varsel/
LOCATION:Zorgtuinderij Wijnen\, Vaarselstraat 46\, Someren\, 5711 RE\, Nederland
CATEGORIES:Activiteiten
END:VEVENT
BEGIN:VEVENT
DTSTART;TZID=Europe/Paris:20260209T183000
DTEND;TZID=Europe/Paris:20260209T213000
DTSTAMP:20260420T092058
CREATED:20151029T162644Z
LAST-MODIFIED:20251030T182425Z
UID:12168-1770661800-1770672600@www.cvdemeerpoel.nl
SUMMARY:Bezoek Eegelshoeve
DESCRIPTION:We brengen een gezellig bezoek aan de bewoners van Eegelshoeve. \n 
URL:https://www.cvdemeerpoel.nl/activiteiten/bezoek-eegelshoeve/
LOCATION:Eegelshoeve\, Ter Hofstadlaan 201\, Someren\, Someren\, 5711 VG\, Nederland
CATEGORIES:Activiteiten
END:VEVENT
BEGIN:VEVENT
DTSTART;TZID=Europe/Paris:20260210T183000
DTEND;TZID=Europe/Paris:20260210T213000
DTSTAMP:20260420T092058
CREATED:20151029T162807Z
LAST-MODIFIED:20251030T182318Z
UID:12170-1770748200-1770759000@www.cvdemeerpoel.nl
SUMMARY:Bezoek Sonnehove
DESCRIPTION:We brengen een gezellig bezoek aan de bewoners van Sonnehove. \n 
URL:https://www.cvdemeerpoel.nl/activiteiten/bezoek-sonnehove/
LOCATION:Sonnehove\, Sonnehove 1\, Someren\, 5711 HA\, Nederland
CATEGORIES:Activiteiten
ATTACH;FMTTYPE=image/jpeg:https://www.cvdemeerpoel.nl/wp-content/uploads/2015/10/sonnehove.jpg
END:VEVENT
BEGIN:VEVENT
DTSTART;TZID=Europe/Paris:20260213T090000
DTEND;TZID=Europe/Paris:20260213T120000
DTSTAMP:20260420T092058
CREATED:20151029T163101Z
LAST-MODIFIED:20250828T175855Z
UID:12173-1770973200-1770984000@www.cvdemeerpoel.nl
SUMMARY:Scholenbezoek
DESCRIPTION:Bezoek basisscholen
URL:https://www.cvdemeerpoel.nl/activiteiten/scholenbezoek/
LOCATION:Someren\, Someren
CATEGORIES:Activiteiten
END:VEVENT
BEGIN:VEVENT
DTSTART;TZID=Europe/Paris:20260213T130000
DTEND;TZID=Europe/Paris:20260213T170000
DTSTAMP:20260420T092058
CREATED:20240913T173352Z
LAST-MODIFIED:20250828T175923Z
UID:21235-1770987600-1771002000@www.cvdemeerpoel.nl
SUMMARY:Bezoek Zorgtuinderij Wijnen
DESCRIPTION:Na afloop van het scholenbezoek. \nTijd o.v.b.
URL:https://www.cvdemeerpoel.nl/activiteiten/bezoek-zorgtuinderij-wijnen/
END:VEVENT
BEGIN:VEVENT
DTSTART;TZID=Europe/Paris:20260213T183000
DTEND;TZID=Europe/Paris:20260213T191500
DTSTAMP:20260420T092058
CREATED:20160116T162644Z
LAST-MODIFIED:20250828T180007Z
UID:13212-1771007400-1771010100@www.cvdemeerpoel.nl
SUMMARY:Carnavalsmis
DESCRIPTION:Voorafgaand aan de Sleuteloverdracht\, wordt er dit jaar ook weer een gezamenlijke kerkdienst gehouden met de volgende carnavalsverenigingen:\nCV De Keijepoal\, CV Locomotion\, CV De Meerpoel\, CV De Plattevonder en CV De Pompers\,\nCarnaval verbroedert en wat is dan mooier om gezamenlijk de carnaval te openen met een eucharistieviering!\n\nAanvang 18.30 uur\nLambertuskerk Someren
URL:https://www.cvdemeerpoel.nl/activiteiten/carnavalsviering/
LOCATION:Lambertuskerk\, Kerkstraat 16\, Someren\, Nederland
CATEGORIES:Activiteiten
END:VEVENT
BEGIN:VEVENT
DTSTART;TZID=Europe/Paris:20260213T200000
DTEND;TZID=Europe/Paris:20260213T230000
DTSTAMP:20260420T092058
CREATED:20151013T094416Z
LAST-MODIFIED:20260115T192042Z
UID:12042-1771012800-1771023600@www.cvdemeerpoel.nl
SUMMARY:Sleuteloverdracht
DESCRIPTION:De Sleuteloverdracht heeft binnen het carnavalsgebeuren een aparte betekenis. Met deze handeling gaf de officiële overheid de sleutel van de stad over aan de in deze periode heersende Hoogheid. Hiermee werd het startsein gegeven voor het carnavalsfeest. Een traditie die in vele carnavalsvierende dorpen tot op de dag van vandaag in ere wordt gehouden. \nVoor ‘De Meerpoel’ begon deze traditie in het jaar van Prins Marini (Wijlaars) in 1966\, waarin hij op carnavalszaterdag officieel werd ontvangen door Burgemeester J. Boerenkamp. Hij werd geïnstalleerd als heerser van het Meerpoelrijk en de sleutels werden hem symbolisch overhandigd. Dit gebeurde vervolgens ieder jaar\, waarbij Prins Ben de eerste prins was die zijn sleutelspaan vergat\, hetgeen hem een vat bier kostte. \nAls carnavalvereniging De Meerpoel hebben we tot en met het jaar 2000 (Prins Piet II Engelen) een ontvangst gehad op het gemeentehuis. Er waren jaren bij waarin de prins werd afgehaald met vereniging\, Hofkapel (Peellander Muzikanten\, vanaf 1979 Prinselijke Hofkapel de Meerpoel)\, enkele jaren samen met Tamboerkorps Somerens Lust\, de buurt\, familie en verdere genodigden. Vervolgens trokken zij naar het gemeentehuis om daar in een gezellig samenzijn van ca. 1 uur de Sleutelspaan in ontvangst te nemen\, dit omlijst met zang van mannenkoor De Nachtegaal en natuurlijk met de ode aan ons Meerminneke\, het overhandigen van medailles en de ludieke kado’s. \nIn het jaar van Someren 700 en Prins Paul I (Van der Weerden) is in overleg gekozen voor een gezamenlijke Sleuteloverdracht van alle carnavalsverenigingen van de Gemeente Someren in cultureel centrum De Ruchte. Hieraan hebben we\, gezien de beschikbaar gestelde tijd\, een andere invulling gegeven aan de Sleuteloverdracht\, met alleen de overdracht en een woord richting twee Wethouders en/of Burgemeester. Was deze gezamenlijke Sleuteloverdracht eerst op zaterdag voor carnaval\, vanaf 2005 is deze verplaatst naar vrijdag voor carnaval\, waarbij inwoners van de gemeente Someren vanaf 19.30 uur welkom zijn om deze Sleuteloverdracht bij te wonen. \n 
URL:https://www.cvdemeerpoel.nl/activiteiten/sleuteloverdracht/
LOCATION:De Ruchte\, Laan ten Roode 71\, Someren
CATEGORIES:Activiteiten
END:VEVENT
BEGIN:VEVENT
DTSTART;VALUE=DATE:20260214
DTEND;VALUE=DATE:20260218
DTSTAMP:20260420T092058
CREATED:20160114T123402Z
LAST-MODIFIED:20260111T185542Z
UID:13157-1771027200-1771372799@www.cvdemeerpoel.nl
SUMMARY:Carnavalsprogramma
DESCRIPTION:Hieronder vind je ons programma van Carnaval 2026\n \nHoud deze pagina en onze socials goed in de gaten voor de laatste updates!
URL:https://www.cvdemeerpoel.nl/activiteiten/carnavalsprogramma/
CATEGORIES:Activiteiten
END:VEVENT
BEGIN:VEVENT
DTSTART;VALUE=DATE:20260214
DTEND;VALUE=DATE:20260218
DTSTAMP:20260420T092058
CREATED:20250828T180326Z
LAST-MODIFIED:20260107T205004Z
UID:21937-1771027200-1771372799@www.cvdemeerpoel.nl
SUMMARY:Carnaval 2026
DESCRIPTION:Vier (Dolle) Daag groot feest!
URL:https://www.cvdemeerpoel.nl/activiteiten/carnaval-2026/
END:VEVENT
BEGIN:VEVENT
DTSTART;TZID=Europe/Paris:20260218T190000
DTEND;TZID=Europe/Paris:20260218T203000
DTSTAMP:20260420T092058
CREATED:20151029T165750Z
LAST-MODIFIED:20250828T180416Z
UID:12187-1771441200-1771446600@www.cvdemeerpoel.nl
SUMMARY:Askruisje halen/haring happen
DESCRIPTION:Askruisje halen in de Lambertuskerk met aansluitend het traditionele haringhappen in onze residentie.
URL:https://www.cvdemeerpoel.nl/activiteiten/askruisje-halen/
LOCATION:Lambertuskerk\, Kerkstraat 16\, Someren\, Nederland
CATEGORIES:Activiteiten
END:VEVENT
BEGIN:VEVENT
DTSTART;TZID=Europe/Paris:20260321T180000
DTEND;TZID=Europe/Paris:20260321T235900
DTSTAMP:20260420T092058
CREATED:20251202T185126Z
LAST-MODIFIED:20251202T185126Z
UID:22360-1774116000-1774137540@www.cvdemeerpoel.nl
SUMMARY:Fenklubavond/Halfvastenbal
DESCRIPTION:De Fenklub van onze Hofkùpel organiseert weer het Halfvastenbal op 21 maart 2026 bij onze Residentie.
URL:https://www.cvdemeerpoel.nl/activiteiten/fenklubavond-halfvastenbal/
LOCATION:Ons Cafe\, Wilhelminaplein 5\, Someren
END:VEVENT
END:VCALENDAR