BEGIN:VCALENDAR
VERSION:2.0
PRODID:-//CV De Meerpoel - ECPv6.15.20//NONSGML v1.0//EN
CALSCALE:GREGORIAN
METHOD:PUBLISH
X-WR-CALNAME:CV De Meerpoel
X-ORIGINAL-URL:https://www.cvdemeerpoel.nl
X-WR-CALDESC:Evenementen voor CV De Meerpoel
REFRESH-INTERVAL;VALUE=DURATION:PT1H
X-Robots-Tag:noindex
X-PUBLISHED-TTL:PT1H
BEGIN:VTIMEZONE
TZID:Europe/Paris
BEGIN:DAYLIGHT
TZOFFSETFROM:+0100
TZOFFSETTO:+0200
TZNAME:CEST
DTSTART:20210328T010000
END:DAYLIGHT
BEGIN:STANDARD
TZOFFSETFROM:+0200
TZOFFSETTO:+0100
TZNAME:CET
DTSTART:20211031T010000
END:STANDARD
BEGIN:DAYLIGHT
TZOFFSETFROM:+0100
TZOFFSETTO:+0200
TZNAME:CEST
DTSTART:20220327T010000
END:DAYLIGHT
BEGIN:STANDARD
TZOFFSETFROM:+0200
TZOFFSETTO:+0100
TZNAME:CET
DTSTART:20221030T010000
END:STANDARD
BEGIN:DAYLIGHT
TZOFFSETFROM:+0100
TZOFFSETTO:+0200
TZNAME:CEST
DTSTART:20230326T010000
END:DAYLIGHT
BEGIN:STANDARD
TZOFFSETFROM:+0200
TZOFFSETTO:+0100
TZNAME:CET
DTSTART:20231029T010000
END:STANDARD
END:VTIMEZONE
BEGIN:VEVENT
DTSTART;TZID=Europe/Paris:20221111T183000
DTEND;TZID=Europe/Paris:20221111T230000
DTSTAMP:20260424T180436
CREATED:20180909T062503Z
LAST-MODIFIED:20220924T103804Z
UID:16271-1668191400-1668207600@www.cvdemeerpoel.nl
SUMMARY:Elfde van de Elfde festival
DESCRIPTION:Vrijdag 11 november 2022 zullen we een bezoek brengen aan het 11e van de 11e festival bij de Keijepoal in Someren-Heide.
URL:https://www.cvdemeerpoel.nl/activiteiten/elfde-van-de-elfde-festival/
LOCATION:Someren-Heide
CATEGORIES:Activiteiten
ATTACH;FMTTYPE=image/jpeg:https://www.cvdemeerpoel.nl/wp-content/uploads/2018/09/11.11-bal.jpg
END:VEVENT
END:VCALENDAR