BEGIN:VCALENDAR
VERSION:2.0
PRODID:-//CV De Meerpoel - ECPv6.15.20//NONSGML v1.0//EN
CALSCALE:GREGORIAN
METHOD:PUBLISH
X-ORIGINAL-URL:https://www.cvdemeerpoel.nl
X-WR-CALDESC:Evenementen voor CV De Meerpoel
REFRESH-INTERVAL;VALUE=DURATION:PT1H
X-Robots-Tag:noindex
X-PUBLISHED-TTL:PT1H
BEGIN:VTIMEZONE
TZID:Europe/Paris
BEGIN:DAYLIGHT
TZOFFSETFROM:+0100
TZOFFSETTO:+0200
TZNAME:CEST
DTSTART:20230326T010000
END:DAYLIGHT
BEGIN:STANDARD
TZOFFSETFROM:+0200
TZOFFSETTO:+0100
TZNAME:CET
DTSTART:20231029T010000
END:STANDARD
BEGIN:DAYLIGHT
TZOFFSETFROM:+0100
TZOFFSETTO:+0200
TZNAME:CEST
DTSTART:20240331T010000
END:DAYLIGHT
BEGIN:STANDARD
TZOFFSETFROM:+0200
TZOFFSETTO:+0100
TZNAME:CET
DTSTART:20241027T010000
END:STANDARD
BEGIN:DAYLIGHT
TZOFFSETFROM:+0100
TZOFFSETTO:+0200
TZNAME:CEST
DTSTART:20250330T010000
END:DAYLIGHT
BEGIN:STANDARD
TZOFFSETFROM:+0200
TZOFFSETTO:+0100
TZNAME:CET
DTSTART:20251026T010000
END:STANDARD
END:VTIMEZONE
BEGIN:VEVENT
DTSTART;TZID=Europe/Paris:20240118T080000
DTEND;TZID=Europe/Paris:20240118T170000
DTSTAMP:20260423T193909
CREATED:20250828T174845Z
LAST-MODIFIED:20250904T193011Z
UID:21931-1705564800-1705597200@www.cvdemeerpoel.nl
SUMMARY:Jeugdreceptie CV De Keijepaol
DESCRIPTION:Tijd n.n.b.
URL:https://www.cvdemeerpoel.nl/activiteiten/jeugdreceptie-cv-de-keijepaol/
LOCATION:Heidehof Someren-Heide
END:VEVENT
BEGIN:VEVENT
DTSTART;TZID=Europe/Paris:20240120T193000
DTEND;TZID=Europe/Paris:20240120T233000
DTSTAMP:20260423T193909
CREATED:20151028T212508Z
LAST-MODIFIED:20231012T180101Z
UID:12122-1705779000-1705793400@www.cvdemeerpoel.nl
SUMMARY:4e Zàonikaovend
DESCRIPTION:
URL:https://www.cvdemeerpoel.nl/activiteiten/4e-zaonikaovend/
LOCATION:Zalencentrum Centraal\, Wilhelminaplein 3\, Someren\, 5711 EK\, Nederland
CATEGORIES:Activiteiten
END:VEVENT
END:VCALENDAR