BEGIN:VCALENDAR
VERSION:2.0
PRODID:-//CV De Meerpoel - ECPv6.15.20//NONSGML v1.0//EN
CALSCALE:GREGORIAN
METHOD:PUBLISH
X-ORIGINAL-URL:https://www.cvdemeerpoel.nl
X-WR-CALDESC:Evenementen voor CV De Meerpoel
REFRESH-INTERVAL;VALUE=DURATION:PT1H
X-Robots-Tag:noindex
X-PUBLISHED-TTL:PT1H
BEGIN:VTIMEZONE
TZID:Europe/Paris
BEGIN:DAYLIGHT
TZOFFSETFROM:+0100
TZOFFSETTO:+0200
TZNAME:CEST
DTSTART:20230326T010000
END:DAYLIGHT
BEGIN:STANDARD
TZOFFSETFROM:+0200
TZOFFSETTO:+0100
TZNAME:CET
DTSTART:20231029T010000
END:STANDARD
BEGIN:DAYLIGHT
TZOFFSETFROM:+0100
TZOFFSETTO:+0200
TZNAME:CEST
DTSTART:20240331T010000
END:DAYLIGHT
BEGIN:STANDARD
TZOFFSETFROM:+0200
TZOFFSETTO:+0100
TZNAME:CET
DTSTART:20241027T010000
END:STANDARD
BEGIN:DAYLIGHT
TZOFFSETFROM:+0100
TZOFFSETTO:+0200
TZNAME:CEST
DTSTART:20250330T010000
END:DAYLIGHT
BEGIN:STANDARD
TZOFFSETFROM:+0200
TZOFFSETTO:+0100
TZNAME:CET
DTSTART:20251026T010000
END:STANDARD
END:VTIMEZONE
BEGIN:VEVENT
DTSTART;TZID=Europe/Paris:20241004T150000
DTEND;TZID=Europe/Paris:20241004T170000
DTSTAMP:20260423T044701
CREATED:20160101T180019Z
LAST-MODIFIED:20240913T165042Z
UID:13203-1728054000-1728061200@www.cvdemeerpoel.nl
SUMMARY:Appels inpakken
DESCRIPTION:Appels inpakken voor de appelactie. \nLocatie: Vlechter 8 Someren
URL:https://www.cvdemeerpoel.nl/activiteiten/appels-inpakken/
CATEGORIES:Activiteiten
END:VEVENT
BEGIN:VEVENT
DTSTART;TZID=Europe/Paris:20241005T090000
DTEND;TZID=Europe/Paris:20241005T123000
DTSTAMP:20260423T044701
CREATED:20210921T184642Z
LAST-MODIFIED:20240913T170021Z
UID:18878-1728118800-1728131400@www.cvdemeerpoel.nl
SUMMARY:Appelactie
DESCRIPTION:Op zaterdag 5 oktober a.s. vindt de jaarlijkse appelactie van CV De Meerpoel plaats.\nDit jaar zullen we weer als vanouds langs de deuren in Someren gaan om de appels te verkopen. \nDaarnaast zijn er drie vaste verkooppunten: bij de Jumbo\, de Albert Heijn en op het Wilhelminaplein staan leden van onze vereniging klaar om u te voorzien van heerlijke appels. \nTussen 09.00 en 12.30 is het mogelijk om appels te kopen voor €4\,00 per zak. Dit jaar bestaat bovendien de mogelijkheid om digitaal te betalen\, via het scannen van een QR-code met uw mobiele telefoon. Uiteraard is contant betalen ook mogelijk. \nMet de opbrengst van deze actie kan de carnavalsvereniging inwoners van Someren of inwoners die dit om een andere reden verdienen verblijden met een bos bloemen. Deze bloemen worden in de week voor carnaval bezorgd. Hierdoor kan CV De Meerpoel deze mensen een extra hart onder de riem steken. \nDe afgelopen jaren hebben we steeds kunnen terugkijken op een succesvolle actie. We hopen ook dit jaar weer op een mooie opbrengst. \n 
URL:https://www.cvdemeerpoel.nl/activiteiten/appelactie/
LOCATION:Someren\, Someren
END:VEVENT
END:VCALENDAR